BEGIN:VCALENDAR
VERSION:2.0
PRODID:-//NEAT - ECPv5.16.0//NONSGML v1.0//EN
CALSCALE:GREGORIAN
METHOD:PUBLISH
X-ORIGINAL-URL:https://neat.scot
X-WR-CALDESC:Events for NEAT
REFRESH-INTERVAL;VALUE=DURATION:PT1H
X-Robots-Tag:noindex
X-PUBLISHED-TTL:PT1H
BEGIN:VTIMEZONE
TZID:UTC
BEGIN:STANDARD
TZOFFSETFROM:+0000
TZOFFSETTO:+0000
TZNAME:UTC
DTSTART:20250101T000000
END:STANDARD
END:VTIMEZONE
BEGIN:VEVENT
DTSTART;TZID=UTC:20250123T090000
DTEND;TZID=UTC:20250123T170000
DTSTAMP:20260422T221611
CREATED:20241111T115038Z
LAST-MODIFIED:20241111T115038Z
UID:257-1737622800-1737651600@neat.scot
SUMMARY:Emergency First Aid training at work and outdoors
DESCRIPTION:Free First Aid training for walk and ride leaders in north Edinburgh. \n  \nContact Anita on hello@r2northed.org.uk for more information
URL:https://neat.scot/event/emergency-first-aid-training-at-work-and-outdoors
LOCATION:tbc
END:VEVENT
BEGIN:VEVENT
DTSTART;TZID=UTC:20250313T100000
DTEND;TZID=UTC:20250313T120000
DTSTAMP:20260422T221611
CREATED:20250203T121507Z
LAST-MODIFIED:20250203T121507Z
UID:310-1741860000-1741867200@neat.scot
SUMMARY:Political walk
DESCRIPTION:Hosted by North Edinburgh Arts\, this walk will give you a chance to share your issues about the area with local politicians. \nThis walk will focus on the local environment.
URL:https://neat.scot/event/political-walk
LOCATION:Outside Greggs on Pennywell Road\, Pennywell Road\, Edinburgh\, EH4 4QR
END:VEVENT
END:VCALENDAR